BEGIN:VCALENDAR
VERSION:2.0
PRODID:-//Friends of ECDC - ECPv6.15.3//NONSGML v1.0//EN
CALSCALE:GREGORIAN
METHOD:PUBLISH
X-ORIGINAL-URL:https://friendsofecdc.org
X-WR-CALDESC:Events for Friends of ECDC
REFRESH-INTERVAL;VALUE=DURATION:PT1H
X-Robots-Tag:noindex
X-PUBLISHED-TTL:PT1H
BEGIN:VTIMEZONE
TZID:UTC
BEGIN:STANDARD
TZOFFSETFROM:+0000
TZOFFSETTO:+0000
TZNAME:UTC
DTSTART:20180101T000000
END:STANDARD
END:VTIMEZONE
BEGIN:VEVENT
DTSTART;TZID=UTC:20181031T130000
DTEND;TZID=UTC:20181031T140000
DTSTAMP:20260424T014425
CREATED:20181009T171016Z
LAST-MODIFIED:20181009T174231Z
UID:12762-1540990800-1540994400@friendsofecdc.org
SUMMARY:ECDC Halloween Parade
DESCRIPTION:Join the children of the Emeryville Child Development Center as they receive a police escort from the center to Emeryville City Hall where they will be provided special treats.
URL:https://friendsofecdc.org/event/ecdc-halloween-parade/
LOCATION:City of Emeryville Town Hall\, 1333 Park Avenue\, Emeryville\, CA\, 94608\, United States
CATEGORIES:Holiday Celebration
ATTACH;FMTTYPE=image/jpeg:https://friendsofecdc.org/wp-content/uploads/2018/10/IMG_4979.jpg
END:VEVENT
END:VCALENDAR