BEGIN:VCALENDAR
VERSION:2.0
PRODID:-//Friends of ECDC - ECPv6.15.3//NONSGML v1.0//EN
CALSCALE:GREGORIAN
METHOD:PUBLISH
X-ORIGINAL-URL:https://friendsofecdc.org
X-WR-CALDESC:Events for Friends of ECDC
REFRESH-INTERVAL;VALUE=DURATION:PT1H
X-Robots-Tag:noindex
X-PUBLISHED-TTL:PT1H
BEGIN:VTIMEZONE
TZID:UTC
BEGIN:STANDARD
TZOFFSETFROM:+0000
TZOFFSETTO:+0000
TZNAME:UTC
DTSTART:20180101T000000
END:STANDARD
END:VTIMEZONE
BEGIN:VEVENT
DTSTART;TZID=UTC:20190410T170000
DTEND;TZID=UTC:20190410T180000
DTSTAMP:20260423T220456
CREATED:20190404T192021Z
LAST-MODIFIED:20190404T192021Z
UID:12866-1554915600-1554919200@friendsofecdc.org
SUMMARY:Friends of ECDC April 2019 meeting
DESCRIPTION:The Friends of ECDC Board meets the second Thursday of every month from 5-6pm in the multipurpose room to discuss fundraising & enrichment opportunities for our children. All are welcome!
URL:https://friendsofecdc.org/event/friends-of-ecdc-april-2019-meeting/
LOCATION:Emeryville Child Development Center\, 1220 53rd Street\,\, Emeryville\, 94608\, United States
CATEGORIES:Friends of ECDC Meeting
ATTACH;FMTTYPE=image/png:https://friendsofecdc.org/wp-content/uploads/2018/05/foECDC_vertical_logo.png
END:VEVENT
BEGIN:VEVENT
DTSTART;TZID=UTC:20190207T170000
DTEND;TZID=UTC:20190207T180000
DTSTAMP:20260423T220456
CREATED:20190129T182159Z
LAST-MODIFIED:20190129T183849Z
UID:12844-1549558800-1549562400@friendsofecdc.org
SUMMARY:Friends of ECDC February 2019 meeting
DESCRIPTION:The Friends of ECDC Board meets the second Thursday of every month from 5-6pm in the multipurpose room to discuss fundraising & enrichment opportunities for our children. All are welcome!
URL:https://friendsofecdc.org/event/friends-of-ecdc-february-2019-meeting/
LOCATION:Emeryville Child Development Center\, 1220 53rd Street\,\, Emeryville\, 94608\, United States
CATEGORIES:Friends of ECDC Meeting
ATTACH;FMTTYPE=image/png:https://friendsofecdc.org/wp-content/uploads/2018/05/foECDC_vertical_logo.png
END:VEVENT
BEGIN:VEVENT
DTSTART;TZID=UTC:20181108T170000
DTEND;TZID=UTC:20181108T180000
DTSTAMP:20260423T220456
CREATED:20181103T001849Z
LAST-MODIFIED:20181103T001849Z
UID:12779-1541696400-1541700000@friendsofecdc.org
SUMMARY:Friends of ECDC November 2018 meeting
DESCRIPTION:The Friends of ECDC Board meets the second Thursday of every month from 5-6pm in the multipurpose room to discuss fundraising & enrichment opportunities for our children. All are welcome!
URL:https://friendsofecdc.org/event/friends-of-ecdc-november-2018-meeting/
LOCATION:Emeryville Child Development Center\, 1220 53rd Street\,\, Emeryville\, 94608\, United States
CATEGORIES:Friends of ECDC Meeting
ATTACH;FMTTYPE=image/png:https://friendsofecdc.org/wp-content/uploads/2018/05/foECDC_vertical_logo.png
END:VEVENT
BEGIN:VEVENT
DTSTART;TZID=UTC:20181011T170000
DTEND;TZID=UTC:20181011T180000
DTSTAMP:20260423T220456
CREATED:20181009T154131Z
LAST-MODIFIED:20181009T154131Z
UID:12754-1539277200-1539280800@friendsofecdc.org
SUMMARY:Friends of ECDC meeting
DESCRIPTION:The Friends of ECDC Board meets the second Thursday of every month from 5-6pm in the multipurpose room to discuss fundraising & enrichment opportunities for our children. All are welcome!
URL:https://friendsofecdc.org/event/friends-of-ecdc-meeting-4/
LOCATION:Emeryville Child Development Center\, 1220 53rd Street\,\, Emeryville\, 94608\, United States
CATEGORIES:Friends of ECDC Meeting
ATTACH;FMTTYPE=image/png:https://friendsofecdc.org/wp-content/uploads/2018/05/foECDC_vertical_logo.png
END:VEVENT
BEGIN:VEVENT
DTSTART;TZID=UTC:20180913T170000
DTEND;TZID=UTC:20180913T180000
DTSTAMP:20260423T220456
CREATED:20180907T143333Z
LAST-MODIFIED:20180907T144932Z
UID:12671-1536858000-1536861600@friendsofecdc.org
SUMMARY:Friends of ECDC meeting
DESCRIPTION:The Friends of ECDC Board meets the second Thursday of every month from 5-6pm in the multipurpose room to discuss fundraising & enrichment opportunities for our children. All are welcome!
URL:https://friendsofecdc.org/event/friends-of-ecdc-meeting-2/
LOCATION:Emeryville Child Development Center\, 1220 53rd Street\,\, Emeryville\, 94608\, United States
CATEGORIES:Friends of ECDC Meeting
ATTACH;FMTTYPE=image/png:https://friendsofecdc.org/wp-content/uploads/2018/05/foECDC_vertical_logo.png
END:VEVENT
BEGIN:VEVENT
DTSTART;TZID=UTC:20180712T170000
DTEND;TZID=UTC:20180712T180000
DTSTAMP:20260423T220456
CREATED:20180712T225043Z
LAST-MODIFIED:20180712T225232Z
UID:12648-1531414800-1531418400@friendsofecdc.org
SUMMARY:Friends of ECDC meeting
DESCRIPTION:Friends of ECDC’s monthly meeting will be Thursday\, July 12th from 5-6pm in the multipurpose room.
URL:https://friendsofecdc.org/event/friends-of-ecdc-meeting-3/
LOCATION:Emeryville Child Development Center\, 1220 53rd Street\,\, Emeryville\, 94608\, United States
CATEGORIES:Friends of ECDC Meeting
ATTACH;FMTTYPE=image/png:https://friendsofecdc.org/wp-content/uploads/2018/05/foECDC_vertical_logo.png
END:VEVENT
END:VCALENDAR